BEGIN:VCALENDAR
VERSION:2.0
PRODID:spatie/icalendar-generator
DESCRIPTION:Veranstaltungen von Realverband Nöpke
X-WR-CALDESC:Veranstaltungen von Realverband Nöpke
REFRESH-INTERVAL;VALUE=DURATION:PT1440M
X-PUBLISHED-TTL:PT1440M
BEGIN:VTIMEZONE
TZID:Europe/Berlin
BEGIN:STANDARD
DTSTART:20251026T030000Z
TZOFFSETFROM:+0200
TZOFFSETTO:+0100
END:STANDARD
BEGIN:DAYLIGHT
DTSTART:20260329T020000Z
TZOFFSETFROM:+0100
TZOFFSETTO:+0200
END:DAYLIGHT
BEGIN:STANDARD
DTSTART:20261025T030000Z
TZOFFSETFROM:+0200
TZOFFSETTO:+0100
END:STANDARD
END:VTIMEZONE
BEGIN:VTIMEZONE
TZID:UTC
BEGIN:STANDARD
DTSTART:20250724T080406Z
TZOFFSETFROM:+0000
TZOFFSETTO:+0000
END:STANDARD
END:VTIMEZONE
BEGIN:VEVENT
UID:1298-47
DTSTAMP:20260420T080406Z
SUMMARY:Dorfgemeinschaft Nöpke e.V. - Vorstandssitzung
LOCATION:Alter Schulraum Altes Seelenfeld 5  Neustadt am Rübenberge ST Nö
 pke Niedersachsen 31535
ORGANIZER;CN=svennoack:MAILTO:sven.trumpke@gmail.com
RRULE:FREQ=MONTHLY;BYDAY=1WE;UNTIL=20261231T000000Z
DTSTART;TZID=Europe/Berlin:20260506T200000
DTEND;TZID=Europe/Berlin:20260506T220000
X-ALT-DESC;FMTTYPE=TEXT/HTML:
CATEGORIES:Dorfgemeinschaft Nöpke
URL;VALUE=URI:http://www.noepker-vereine.de/realverband/mc-events/dorfgemei
 nschaft-noepke-e-v-vorstandssitzung-5/?mc_id=1298
METHOD:PUBLISH
END:VEVENT
END:VCALENDAR