BEGIN:VCALENDAR
VERSION:2.0
PRODID:spatie/icalendar-generator
DESCRIPTION:Veranstaltungen von Realverband Nöpke
X-WR-CALDESC:Veranstaltungen von Realverband Nöpke
REFRESH-INTERVAL;VALUE=DURATION:PT1440M
X-PUBLISHED-TTL:PT1440M
BEGIN:VTIMEZONE
TZID:Europe/Berlin
BEGIN:STANDARD
DTSTART:20251026T030000Z
TZOFFSETFROM:+0200
TZOFFSETTO:+0100
END:STANDARD
BEGIN:DAYLIGHT
DTSTART:20260329T020000Z
TZOFFSETFROM:+0100
TZOFFSETTO:+0200
END:DAYLIGHT
BEGIN:STANDARD
DTSTART:20261025T030000Z
TZOFFSETFROM:+0200
TZOFFSETTO:+0100
END:STANDARD
END:VTIMEZONE
BEGIN:VTIMEZONE
TZID:UTC
BEGIN:STANDARD
DTSTART:20250724T062202Z
TZOFFSETFROM:+0000
TZOFFSETTO:+0000
END:STANDARD
END:VTIMEZONE
BEGIN:VEVENT
UID:164-3
DTSTAMP:20260420T062202Z
SUMMARY:Schützenkapelle Proben Erwachsene
LOCATION:Alter Schulraum Altes Seelenfeld 5  Neustadt am Rübenberge ST Nö
 pke Niedersachsen 31535
ORGANIZER;CN=svennoack:MAILTO:sven.trumpke@gmail.com
RRULE:FREQ=WEEKLY;UNTIL=20340301T000000Z
DTSTART;TZID=Europe/Berlin:20260427T201500
DTEND;TZID=Europe/Berlin:20260427T211500
X-ALT-DESC;FMTTYPE=TEXT/HTML:
CATEGORIES:Schützenkapelle
URL;VALUE=URI:http://www.noepker-vereine.de/realverband/mc-events/schuetzen
 kapelle-proben-erwachsene/?mc_id=164
METHOD:PUBLISH
END:VEVENT
END:VCALENDAR