BEGIN:VCALENDAR
VERSION:2.0
PRODID:spatie/icalendar-generator
DESCRIPTION:Veranstaltungen von Realverband Nöpke
X-WR-CALDESC:Veranstaltungen von Realverband Nöpke
REFRESH-INTERVAL;VALUE=DURATION:PT1440M
X-PUBLISHED-TTL:PT1440M
BEGIN:VTIMEZONE
TZID:Europe/Berlin
BEGIN:STANDARD
DTSTART:20251026T030000Z
TZOFFSETFROM:+0200
TZOFFSETTO:+0100
END:STANDARD
BEGIN:DAYLIGHT
DTSTART:20260329T020000Z
TZOFFSETFROM:+0100
TZOFFSETTO:+0200
END:DAYLIGHT
END:VTIMEZONE
BEGIN:VTIMEZONE
TZID:UTC
BEGIN:STANDARD
DTSTART:20250724T080413Z
TZOFFSETFROM:+0000
TZOFFSETTO:+0000
END:STANDARD
END:VTIMEZONE
BEGIN:VEVENT
UID:1320-61
DTSTAMP:20260420T080413Z
SUMMARY:Gruppe 1+2
LOCATION:Feuerwehrraum Altes Seelenfeld 5  Neustadt am Rübenberge ST Nöpk
 e Niedersachsen 31535
ORGANIZER;CN=svennoack:MAILTO:sven.trumpke@gmail.com
DTSTART;TZID=Europe/Berlin:20260416T190000
DTEND;TZID=Europe/Berlin:20260416T220000
X-ALT-DESC;FMTTYPE=TEXT/HTML:<p>Fahrzeug und Gerätekunde/ Motorbetriebene 
 Geräte</p>\n
CATEGORIES:Feuerwehr
URL;VALUE=URI:http://www.noepker-vereine.de/realverband/mc-events/gruppe-12
 -7/
METHOD:PUBLISH
END:VEVENT
END:VCALENDAR